BEGIN:VCALENDAR
VERSION:2.0
PRODID:-//Maxwell Clan of West Central Florida - ECPv6.15.20//NONSGML v1.0//EN
CALSCALE:GREGORIAN
METHOD:PUBLISH
X-WR-CALNAME:Maxwell Clan of West Central Florida
X-ORIGINAL-URL:https://maxwellclan.org/w
X-WR-CALDESC:Events for Maxwell Clan of West Central Florida
REFRESH-INTERVAL;VALUE=DURATION:PT1H
X-Robots-Tag:noindex
X-PUBLISHED-TTL:PT1H
BEGIN:VTIMEZONE
TZID:America/New_York
BEGIN:DAYLIGHT
TZOFFSETFROM:-0500
TZOFFSETTO:-0400
TZNAME:EDT
DTSTART:20180311T070000
END:DAYLIGHT
BEGIN:STANDARD
TZOFFSETFROM:-0400
TZOFFSETTO:-0500
TZNAME:EST
DTSTART:20181104T060000
END:STANDARD
BEGIN:DAYLIGHT
TZOFFSETFROM:-0500
TZOFFSETTO:-0400
TZNAME:EDT
DTSTART:20190310T070000
END:DAYLIGHT
BEGIN:STANDARD
TZOFFSETFROM:-0400
TZOFFSETTO:-0500
TZNAME:EST
DTSTART:20191103T060000
END:STANDARD
BEGIN:DAYLIGHT
TZOFFSETFROM:-0500
TZOFFSETTO:-0400
TZNAME:EDT
DTSTART:20200308T070000
END:DAYLIGHT
BEGIN:STANDARD
TZOFFSETFROM:-0400
TZOFFSETTO:-0500
TZNAME:EST
DTSTART:20201101T060000
END:STANDARD
BEGIN:DAYLIGHT
TZOFFSETFROM:-0500
TZOFFSETTO:-0400
TZNAME:EDT
DTSTART:20210314T070000
END:DAYLIGHT
BEGIN:STANDARD
TZOFFSETFROM:-0400
TZOFFSETTO:-0500
TZNAME:EST
DTSTART:20211107T060000
END:STANDARD
BEGIN:DAYLIGHT
TZOFFSETFROM:-0500
TZOFFSETTO:-0400
TZNAME:EDT
DTSTART:20220313T070000
END:DAYLIGHT
BEGIN:STANDARD
TZOFFSETFROM:-0400
TZOFFSETTO:-0500
TZNAME:EST
DTSTART:20221106T060000
END:STANDARD
BEGIN:DAYLIGHT
TZOFFSETFROM:-0500
TZOFFSETTO:-0400
TZNAME:EDT
DTSTART:20230312T070000
END:DAYLIGHT
BEGIN:STANDARD
TZOFFSETFROM:-0400
TZOFFSETTO:-0500
TZNAME:EST
DTSTART:20231105T060000
END:STANDARD
BEGIN:DAYLIGHT
TZOFFSETFROM:-0500
TZOFFSETTO:-0400
TZNAME:EDT
DTSTART:20240310T070000
END:DAYLIGHT
BEGIN:STANDARD
TZOFFSETFROM:-0400
TZOFFSETTO:-0500
TZNAME:EST
DTSTART:20241103T060000
END:STANDARD
BEGIN:DAYLIGHT
TZOFFSETFROM:-0500
TZOFFSETTO:-0400
TZNAME:EDT
DTSTART:20250309T070000
END:DAYLIGHT
BEGIN:STANDARD
TZOFFSETFROM:-0400
TZOFFSETTO:-0500
TZNAME:EST
DTSTART:20251102T060000
END:STANDARD
BEGIN:DAYLIGHT
TZOFFSETFROM:-0500
TZOFFSETTO:-0400
TZNAME:EDT
DTSTART:20260308T070000
END:DAYLIGHT
BEGIN:STANDARD
TZOFFSETFROM:-0400
TZOFFSETTO:-0500
TZNAME:EST
DTSTART:20261101T060000
END:STANDARD
END:VTIMEZONE
BEGIN:VTIMEZONE
TZID:America/New_York
BEGIN:DAYLIGHT
TZOFFSETFROM:-0500
TZOFFSETTO:-0400
TZNAME:EDT
DTSTART:20170312T070000
END:DAYLIGHT
BEGIN:STANDARD
TZOFFSETFROM:-0400
TZOFFSETTO:-0500
TZNAME:EST
DTSTART:20171105T060000
END:STANDARD
BEGIN:DAYLIGHT
TZOFFSETFROM:-0500
TZOFFSETTO:-0400
TZNAME:EDT
DTSTART:20180311T070000
END:DAYLIGHT
BEGIN:STANDARD
TZOFFSETFROM:-0400
TZOFFSETTO:-0500
TZNAME:EST
DTSTART:20181104T060000
END:STANDARD
BEGIN:DAYLIGHT
TZOFFSETFROM:-0500
TZOFFSETTO:-0400
TZNAME:EDT
DTSTART:20190310T070000
END:DAYLIGHT
BEGIN:STANDARD
TZOFFSETFROM:-0400
TZOFFSETTO:-0500
TZNAME:EST
DTSTART:20191103T060000
END:STANDARD
END:VTIMEZONE
BEGIN:VEVENT
DTSTART;TZID=America/New_York:20251214T133000
DTEND;TZID=America/New_York:20251214T150000
DTSTAMP:20260420T083914
CREATED:20251124T131439Z
LAST-MODIFIED:20251124T132739Z
UID:5423-1765719000-1765724400@maxwellclan.org
SUMMARY:Annual Meeting
DESCRIPTION:All Knights are hereby summoned to gather for our Annual Meeting\, there to hold the election of officers\, to consider petitions for membership\, to set our plans for the gatherings ahead\, and to share in guid fellowship.
URL:https://maxwellclan.org/w/event/annual-meeting/
LOCATION:Selema Grotto\, 3000 16th St North\, St Petersburg\, Florida\, 33704\, United States
CATEGORIES:Meetings
ATTACH;FMTTYPE=image/jpeg:https://maxwellclan.org/w/wp-content/uploads/2017/11/bod.jpg
END:VEVENT
BEGIN:VEVENT
DTSTART;TZID=America/New_York:20240413T110000
DTEND;TZID=America/New_York:20240413T213000
DTSTAMP:20260420T083914
CREATED:20211103T143143Z
LAST-MODIFIED:20240212T220757Z
UID:3743-1713006000-1713043800@maxwellclan.org
SUMMARY:Provincial Grand Lodge Meeting in Florida
DESCRIPTION:$179 Room Rate Deadline: 3/12/24If calling for a room\, specify Royal Order of Scotland group. \n\n\n\n\n\n\n\nPetition Deadline: 4/5/24Banquet Reservation Deadline: 4/8/24 \n\n\n\n\n\n11:00 AM – 12:30 PMCandidate & Member Registration12:45 PMCandidate Orientation in Meeting Room1:15 PMCandidates Assemble in Preparation for DegreesMembers Enter Meeting Room1:30 PMOfficers Piped In for Opening of Provincial Grand Lodge1:45 PM – 4:30 PMConferral of Degrees6:00 PMSocial Hour (Cash Bar) for Members & Guests7:15 PMBanquet Doors Open7:20 PMOfficers & Distinguished Guests Piped In for Banquet7:30 PM – 9:30 PMBanquet
URL:https://maxwellclan.org/w/event/provincial-grand-lodge-meeting-in-florida/
LOCATION:Hilton Tampa Airport Westshore\, 2225 N Lois Avenue\, Tampa\, FL\, 33607\, United States
CATEGORIES:Meetings
ATTACH;FMTTYPE=image/png:https://maxwellclan.org/w/wp-content/uploads/2018/06/maxwell-ribbonROOS.png
ORGANIZER;CN="Provincial Grand Lodge":MAILTO:roos2@verizon.net
END:VEVENT
BEGIN:VEVENT
DTSTART;TZID=America/New_York:20221029T090000
DTEND;TZID=America/New_York:20221029T100000
DTSTAMP:20260420T083914
CREATED:20221017T221849Z
LAST-MODIFIED:20221017T221949Z
UID:4066-1667034000-1667037600@maxwellclan.org
SUMMARY:Board of Directors Meeting
DESCRIPTION:
URL:https://maxwellclan.org/w/event/board-of-directors-meeting-4/
LOCATION:Florida
CATEGORIES:Meetings
ATTACH;FMTTYPE=image/jpeg:https://maxwellclan.org/w/wp-content/uploads/2017/11/bod.jpg
END:VEVENT
BEGIN:VEVENT
DTSTART;TZID=America/New_York:20220403T090000
DTEND;TZID=America/New_York:20220403T100000
DTSTAMP:20260420T083914
CREATED:20220216T091332Z
LAST-MODIFIED:20220322T133009Z
UID:3860-1648976400-1648980000@maxwellclan.org
SUMMARY:Board of Directors Meeting
DESCRIPTION:
URL:https://maxwellclan.org/w/event/board-of-directors/
LOCATION:Zoom
CATEGORIES:Meetings
ATTACH;FMTTYPE=image/jpeg:https://maxwellclan.org/w/wp-content/uploads/2017/11/bod.jpg
END:VEVENT
BEGIN:VEVENT
DTSTART;TZID=America/New_York:20211030T100000
DTEND;TZID=America/New_York:20211030T110000
DTSTAMP:20260420T083914
CREATED:20210814T150700Z
LAST-MODIFIED:20220124T200347Z
UID:3650-1635588000-1635591600@maxwellclan.org
SUMMARY:Board of Directors Meeting
DESCRIPTION:                  Shelter #3
URL:https://maxwellclan.org/w/event/board-of-directors-meeting-3/
LOCATION:Eagle Lake Park\, 1800 Keene Rd.\, Largo\, FL\, 33771\, United States
CATEGORIES:Meetings
ATTACH;FMTTYPE=image/jpeg:https://maxwellclan.org/w/wp-content/uploads/2017/11/bod.jpg
END:VEVENT
BEGIN:VEVENT
DTSTART;TZID=America/New_York:20210814T100000
DTEND;TZID=America/New_York:20210814T110000
DTSTAMP:20260420T083914
CREATED:20201212T183707Z
LAST-MODIFIED:20220124T200221Z
UID:3446-1628935200-1628938800@maxwellclan.org
SUMMARY:Board of Directors Meeting
DESCRIPTION:
URL:https://maxwellclan.org/w/event/board-of-directors-meeting-2/
LOCATION:Zoom
CATEGORIES:Meetings
ATTACH;FMTTYPE=image/jpeg:https://maxwellclan.org/w/wp-content/uploads/2017/11/bod.jpg
END:VEVENT
BEGIN:VEVENT
DTSTART;TZID=America/New_York:20201212T130000
DTEND;TZID=America/New_York:20201212T140000
DTSTAMP:20260420T083914
CREATED:20201031T154000Z
LAST-MODIFIED:20220124T200113Z
UID:3402-1607778000-1607781600@maxwellclan.org
SUMMARY:Board Meeting
DESCRIPTION:
URL:https://maxwellclan.org/w/event/board-meeting-2/
LOCATION:Zoom
CATEGORIES:Meetings
ATTACH;FMTTYPE=image/jpeg:https://maxwellclan.org/w/wp-content/uploads/2017/11/bod.jpg
END:VEVENT
BEGIN:VEVENT
DTSTART;TZID=America/New_York:20201031T110000
DTEND;TZID=America/New_York:20201031T120000
DTSTAMP:20260420T083914
CREATED:20201025T005140Z
LAST-MODIFIED:20220124T200036Z
UID:3395-1604142000-1604145600@maxwellclan.org
SUMMARY:Board Meeting
DESCRIPTION:Zoom meeting
URL:https://maxwellclan.org/w/event/board-meeting/
LOCATION:Florida
CATEGORIES:Meetings
ATTACH;FMTTYPE=image/jpeg:https://maxwellclan.org/w/wp-content/uploads/2017/11/bod.jpg
END:VEVENT
BEGIN:VEVENT
DTSTART;TZID=America/New_York:20191012T100000
DTEND;TZID=America/New_York:20191012T100000
DTSTAMP:20260420T083914
CREATED:20190810T143710Z
LAST-MODIFIED:20220124T195734Z
UID:3054-1570874400-1570874400@maxwellclan.org
SUMMARY:Board of Directors Meeting
DESCRIPTION:
URL:https://maxwellclan.org/w/event/board-of-directors-meeting/
LOCATION:Conference Call
CATEGORIES:Meetings
ATTACH;FMTTYPE=image/jpeg:https://maxwellclan.org/w/wp-content/uploads/2017/11/bod.jpg
END:VEVENT
BEGIN:VEVENT
DTSTART;TZID=America/New_York:20181118T160000
DTEND;TZID=America/New_York:20181118T200000
DTSTAMP:20260420T083914
CREATED:20171114T182113Z
LAST-MODIFIED:20220124T195548Z
UID:645-1542556800-1542571200@maxwellclan.org
SUMMARY:St. Andrews Day Dinner & Annual Meeting
DESCRIPTION:
URL:https://maxwellclan.org/w/event/st-andrews-day-dinner-annual-meeting/
LOCATION:BRIO Tuscan Grille\, 2223 North Westshore Boulevard\, Tampa\, FL\, 33607\, United States
CATEGORIES:Dinner,Meetings
ATTACH;FMTTYPE=image/jpeg:https://maxwellclan.org/w/wp-content/uploads/2018/06/banner_parties.jpg
END:VEVENT
BEGIN:VEVENT
DTSTART;VALUE=DATE:20181020
DTEND;VALUE=DATE:20181021
DTSTAMP:20260420T083914
CREATED:20171114T182020Z
LAST-MODIFIED:20180610T153620Z
UID:643-1539993600-1540079999@maxwellclan.org
SUMMARY:Board of Directors Meeting
DESCRIPTION:
URL:https://maxwellclan.org/w/event/board-of-directors-meeting-7/
LOCATION:Tampa Scottish Rite Masonic Center\, 5500 Memorial Highway\,\, Tampa\, FL\, 3634-7336\, United States
CATEGORIES:Meetings
ATTACH;FMTTYPE=image/jpeg:https://maxwellclan.org/w/wp-content/uploads/2017/11/bod.jpg
END:VEVENT
BEGIN:VEVENT
DTSTART;TZID=America/New_York:20180714T100000
DTEND;TZID=America/New_York:20180714T110000
DTSTAMP:20260420T083914
CREATED:20171114T181512Z
LAST-MODIFIED:20180610T153643Z
UID:639-1531562400-1531566000@maxwellclan.org
SUMMARY:Board of Directors Meeting
DESCRIPTION:
URL:https://maxwellclan.org/w/event/board-of-directors-meeting-6/
LOCATION:Conference Call
CATEGORIES:Meetings
ATTACH;FMTTYPE=image/jpeg:https://maxwellclan.org/w/wp-content/uploads/2017/11/bod.jpg
END:VEVENT
END:VCALENDAR