BEGIN:VCALENDAR
VERSION:2.0
PRODID:-//Maxwell Clan of West Central Florida - ECPv6.15.20//NONSGML v1.0//EN
CALSCALE:GREGORIAN
METHOD:PUBLISH
X-WR-CALNAME:Maxwell Clan of West Central Florida
X-ORIGINAL-URL:https://maxwellclan.org/w
X-WR-CALDESC:Events for Maxwell Clan of West Central Florida
REFRESH-INTERVAL;VALUE=DURATION:PT1H
X-Robots-Tag:noindex
X-PUBLISHED-TTL:PT1H
BEGIN:VTIMEZONE
TZID:America/New_York
BEGIN:DAYLIGHT
TZOFFSETFROM:-0500
TZOFFSETTO:-0400
TZNAME:EDT
DTSTART:20250309T070000
END:DAYLIGHT
BEGIN:STANDARD
TZOFFSETFROM:-0400
TZOFFSETTO:-0500
TZNAME:EST
DTSTART:20251102T060000
END:STANDARD
BEGIN:DAYLIGHT
TZOFFSETFROM:-0500
TZOFFSETTO:-0400
TZNAME:EDT
DTSTART:20260308T070000
END:DAYLIGHT
BEGIN:STANDARD
TZOFFSETFROM:-0400
TZOFFSETTO:-0500
TZNAME:EST
DTSTART:20261101T060000
END:STANDARD
BEGIN:DAYLIGHT
TZOFFSETFROM:-0500
TZOFFSETTO:-0400
TZNAME:EDT
DTSTART:20270314T070000
END:DAYLIGHT
BEGIN:STANDARD
TZOFFSETFROM:-0400
TZOFFSETTO:-0500
TZNAME:EST
DTSTART:20271107T060000
END:STANDARD
END:VTIMEZONE
BEGIN:VEVENT
DTSTART;TZID=America/New_York:20261213T133000
DTEND;TZID=America/New_York:20261213T150000
DTSTAMP:20260420T065307
CREATED:20260322T203603Z
LAST-MODIFIED:20260322T203605Z
UID:5529-1797168600-1797174000@maxwellclan.org
SUMMARY:2026 Annual Meeting
DESCRIPTION:All Knights are hereby summoned to gather for our Annual Meeting\, there to hold the election of officers\, to consider petitions for membership\, to set our plans for the gatherings ahead\, and to share in guid fellowship.
URL:https://maxwellclan.org/w/event/2026-annual-meeting/
LOCATION:Selema Grotto\, 3000 16th St North\, St Petersburg\, Florida\, 33704\, United States
CATEGORIES:Meetings
ATTACH;FMTTYPE=image/jpeg:https://maxwellclan.org/w/wp-content/uploads/2017/11/bod.jpg
END:VEVENT
END:VCALENDAR