BEGIN:VCALENDAR
VERSION:2.0
PRODID:-//Maxwell Clan of West Central Florida - ECPv6.15.20//NONSGML v1.0//EN
CALSCALE:GREGORIAN
METHOD:PUBLISH
X-WR-CALNAME:Maxwell Clan of West Central Florida
X-ORIGINAL-URL:https://maxwellclan.org/w
X-WR-CALDESC:Events for Maxwell Clan of West Central Florida
REFRESH-INTERVAL;VALUE=DURATION:PT1H
X-Robots-Tag:noindex
X-PUBLISHED-TTL:PT1H
BEGIN:VTIMEZONE
TZID:America/New_York
BEGIN:DAYLIGHT
TZOFFSETFROM:-0500
TZOFFSETTO:-0400
TZNAME:EDT
DTSTART:20190310T070000
END:DAYLIGHT
BEGIN:STANDARD
TZOFFSETFROM:-0400
TZOFFSETTO:-0500
TZNAME:EST
DTSTART:20191103T060000
END:STANDARD
BEGIN:DAYLIGHT
TZOFFSETFROM:-0500
TZOFFSETTO:-0400
TZNAME:EDT
DTSTART:20200308T070000
END:DAYLIGHT
BEGIN:STANDARD
TZOFFSETFROM:-0400
TZOFFSETTO:-0500
TZNAME:EST
DTSTART:20201101T060000
END:STANDARD
BEGIN:DAYLIGHT
TZOFFSETFROM:-0500
TZOFFSETTO:-0400
TZNAME:EDT
DTSTART:20210314T070000
END:DAYLIGHT
BEGIN:STANDARD
TZOFFSETFROM:-0400
TZOFFSETTO:-0500
TZNAME:EST
DTSTART:20211107T060000
END:STANDARD
BEGIN:DAYLIGHT
TZOFFSETFROM:-0500
TZOFFSETTO:-0400
TZNAME:EDT
DTSTART:20220313T070000
END:DAYLIGHT
BEGIN:STANDARD
TZOFFSETFROM:-0400
TZOFFSETTO:-0500
TZNAME:EST
DTSTART:20221106T060000
END:STANDARD
BEGIN:DAYLIGHT
TZOFFSETFROM:-0500
TZOFFSETTO:-0400
TZNAME:EDT
DTSTART:20230312T070000
END:DAYLIGHT
BEGIN:STANDARD
TZOFFSETFROM:-0400
TZOFFSETTO:-0500
TZNAME:EST
DTSTART:20231105T060000
END:STANDARD
BEGIN:DAYLIGHT
TZOFFSETFROM:-0500
TZOFFSETTO:-0400
TZNAME:EDT
DTSTART:20240310T070000
END:DAYLIGHT
BEGIN:STANDARD
TZOFFSETFROM:-0400
TZOFFSETTO:-0500
TZNAME:EST
DTSTART:20241103T060000
END:STANDARD
BEGIN:DAYLIGHT
TZOFFSETFROM:-0500
TZOFFSETTO:-0400
TZNAME:EDT
DTSTART:20250309T070000
END:DAYLIGHT
BEGIN:STANDARD
TZOFFSETFROM:-0400
TZOFFSETTO:-0500
TZNAME:EST
DTSTART:20251102T060000
END:STANDARD
BEGIN:DAYLIGHT
TZOFFSETFROM:-0500
TZOFFSETTO:-0400
TZNAME:EDT
DTSTART:20260308T070000
END:DAYLIGHT
BEGIN:STANDARD
TZOFFSETFROM:-0400
TZOFFSETTO:-0500
TZNAME:EST
DTSTART:20261101T060000
END:STANDARD
BEGIN:DAYLIGHT
TZOFFSETFROM:-0500
TZOFFSETTO:-0400
TZNAME:EDT
DTSTART:20270314T070000
END:DAYLIGHT
BEGIN:STANDARD
TZOFFSETFROM:-0400
TZOFFSETTO:-0500
TZNAME:EST
DTSTART:20271107T060000
END:STANDARD
END:VTIMEZONE
BEGIN:VEVENT
DTSTART;TZID=America/New_York:20260322T120000
DTEND;TZID=America/New_York:20260322T150000
DTSTAMP:20260420T023853
CREATED:20251124T131935Z
LAST-MODIFIED:20251124T132756Z
UID:5425-1774180800-1774191600@maxwellclan.org
SUMMARY:Spring Family Picnic
DESCRIPTION:Gather wi’ thy fellow Knights and their families for a family-style meet upon the bonnie shores of Eagle Lake. Bring along a wee dish to share. We shall assemble at Pavilion No. 5.
URL:https://maxwellclan.org/w/event/spring-family-picnic-2/
LOCATION:Eagle Lake Park\, 1800 Keene Rd.\, Largo\, FL\, 33771\, United States
CATEGORIES:Dinner,Fellowship
ATTACH;FMTTYPE=image/png:https://maxwellclan.org/w/wp-content/uploads/2021/08/Screen-Shot-2021-08-14-at-Aug-144.18.29-PM.png
END:VEVENT
BEGIN:VEVENT
DTSTART;TZID=America/New_York:20260125T170000
DTEND;TZID=America/New_York:20260125T200000
DTSTAMP:20260420T023853
CREATED:20250622T152422Z
LAST-MODIFIED:20250622T183819Z
UID:5132-1769360400-1769371200@maxwellclan.org
SUMMARY:Rabbie Burns Dinner
DESCRIPTION:*** Formal attire is kindly requested. *** \n\n\n\n\n\n\n\n\nJoin us for a uniquely Floridian take on a traditional Burns Night Supper. Begin the evening with cocktails at 5 p.m.\, followed by a delightful dinner accompanied by classic toasts. \n\n5:00pm – Guests arrive. Cocktail Hour Begins\n\n\n\n6:00pm – Guests are seated.\n\n\n\n6:15pm – Entree orders taken.\n\n\n\n6:30pm – Appetizers served\n\n\n\n6:45pm – Salads served\n\n\n\n7:00pm – Entrees served\n\n\n\n7:30pm – Dessert served. Last call is given.\n\n\n\n8:00pm – Event ends. Guests are invited to enjoy cocktails at one of our Deck Bars.\n\n\n\n\n\n\n\n\n\n\n\n\n\n\n 
URL:https://maxwellclan.org/w/event/rabbie-burns-dinner/
LOCATION:Bahama Breeze\, 3045 N Rocky Point Dr E\, Tampa\, FL\, 33607\, United States
CATEGORIES:Dinner
ATTACH;FMTTYPE=image/jpeg:https://maxwellclan.org/w/wp-content/uploads/2018/06/RobertBurnsAD.jpg
END:VEVENT
BEGIN:VEVENT
DTSTART;TZID=America/New_York:20251214T133000
DTEND;TZID=America/New_York:20251214T150000
DTSTAMP:20260420T023853
CREATED:20251124T131439Z
LAST-MODIFIED:20251124T132739Z
UID:5423-1765719000-1765724400@maxwellclan.org
SUMMARY:Annual Meeting
DESCRIPTION:All Knights are hereby summoned to gather for our Annual Meeting\, there to hold the election of officers\, to consider petitions for membership\, to set our plans for the gatherings ahead\, and to share in guid fellowship.
URL:https://maxwellclan.org/w/event/annual-meeting/
LOCATION:Selema Grotto\, 3000 16th St North\, St Petersburg\, Florida\, 33704\, United States
CATEGORIES:Meetings
ATTACH;FMTTYPE=image/jpeg:https://maxwellclan.org/w/wp-content/uploads/2017/11/bod.jpg
END:VEVENT
BEGIN:VEVENT
DTSTART;TZID=America/New_York:20251123T170000
DTEND;TZID=America/New_York:20251123T200000
DTSTAMP:20260420T023853
CREATED:20250622T153230Z
LAST-MODIFIED:20251123T165721Z
UID:5133-1763917200-1763928000@maxwellclan.org
SUMMARY:St. Andrew's Day and Thanksgiving Dinner
DESCRIPTION:This year’s main course will be ham\, provided by the Board of Directors. Join us for a hearty gathering as we celebrate St. Andrew’s Day and Thanksgiving with good food\, good company\, and plenty of Scottish spirit. It’s a family-style Thanksgiving potluck—bring your kin and a side or dessert that pairs well with ham\, such as tatties\, vegetables\, salads\, or a sweet treat to share.
URL:https://maxwellclan.org/w/event/st-andrews-day-and-thanksgiving-dinner/
LOCATION:Scottish American Society of Dunedin\, 917 Louden Ave\, Dunedin\, FL\, 34698\, United States
CATEGORIES:Dinner
ATTACH;FMTTYPE=image/png:https://maxwellclan.org/w/wp-content/uploads/2022/10/IMG_6661.png
END:VEVENT
BEGIN:VEVENT
DTSTART;TZID=America/New_York:20250914T120000
DTEND;TZID=America/New_York:20250914T150000
DTSTAMP:20260420T023853
CREATED:20250622T145844Z
LAST-MODIFIED:20250622T150632Z
UID:5123-1757851200-1757862000@maxwellclan.org
SUMMARY:Dinner Cruise – StarLite Majesty Dining Yacht
DESCRIPTION:Parking: \n\n\n\nThe City of Clearwater operates a pay-per-plate parking lot at the Clearwater Beach Marina\, with parking paid by the hour at kiosks in the lot at the rate of $3 per hour. Parking spots are available on a first-come\, first-served basis. Parking is enforced in the marina lot from 6am – 11pm daily. No oversized/bus parking spaces are on site.  \n\n\n\nUpon arrival\, check-in at your cruise and get a daily merchant code. The merchant code discounts the rate to $1 per hour. Once you have the code\, use the kiosk in the lot to purchase the time you need for your cruise. The Park Mobile App will NOT accept the merchant code. \n\n\n\nOther parking areas are available on Clearwater Beach and the rates for these vary – parking garage (open to the public) at the Hyatt Regency Clearwater Beach at 301 South Gulfview Blvd\, Pier 60 parking lot at 160 South Gulfview Blvd\, Gateway parking lot at 1 East Shore Dr\, and the North Beach Parking Plaza at 490 Poinsettia Ave.
URL:https://maxwellclan.org/w/event/dinner-cruise-starlite-majesty-dining-yacht-2/
LOCATION:StarLite of Clearwater\, 25 Causeway Blvd. Slip #152\, Clearwater\, FL\, 33767\, United States
CATEGORIES:Dinner,Fellowship
ATTACH;FMTTYPE=image/jpeg:https://maxwellclan.org/w/wp-content/uploads/2022/04/starite.jpeg
END:VEVENT
BEGIN:VEVENT
DTSTART;TZID=America/New_York:20250720T170000
DTEND;TZID=America/New_York:20250720T190000
DTSTAMP:20260420T023853
CREATED:20250622T153329Z
LAST-MODIFIED:20250622T182921Z
UID:5134-1753030800-1753038000@maxwellclan.org
SUMMARY:Spirits Tasting at Selama Grotto
DESCRIPTION:Enjoy Bourbon and Wine flights to accompany fellowship and food.  All Knights and their Ladies.
URL:https://maxwellclan.org/w/event/spirits-tasting-at-selama-grotto/
LOCATION:Selema Grotto\, 3000 16th St North\, St Petersburg\, Florida\, 33704\, United States
CATEGORIES:Fellowship
ATTACH;FMTTYPE=image/webp:https://maxwellclan.org/w/wp-content/uploads/2024/08/Whiskey_Scotch_Wine.webp
END:VEVENT
BEGIN:VEVENT
DTSTART;TZID=America/New_York:20250427T120000
DTEND;TZID=America/New_York:20250427T150000
DTSTAMP:20260420T023853
CREATED:20240812T132023Z
LAST-MODIFIED:20250307T180629Z
UID:4766-1745755200-1745766000@maxwellclan.org
SUMMARY:Picnic in the Park - Eagle Lake Park
DESCRIPTION:Eagle Lake Park\, Shelter #5 \nJoin your fellow Knights and families for a family-style picnic under centuries-old Oak trees. Bring a side to share. \n 
URL:https://maxwellclan.org/w/event/spring-family-picnic/
LOCATION:Eagle Lake Park\, 1800 Keene Rd.\, Largo\, FL\, 33771\, United States
CATEGORIES:Fellowship
ATTACH;FMTTYPE=image/jpeg:https://maxwellclan.org/w/wp-content/uploads/2024/08/Eagle-Lake-Park-5-1.jpg
END:VEVENT
BEGIN:VEVENT
DTSTART;TZID=America/New_York:20250126T170000
DTEND;TZID=America/New_York:20250126T200000
DTSTAMP:20260420T023853
CREATED:20240812T132023Z
LAST-MODIFIED:20250109T191246Z
UID:4765-1737910800-1737921600@maxwellclan.org
SUMMARY:Robert Burns Supper
DESCRIPTION:Registration cutoff: January 10\, 2025 @ 11:30 pm\n\n\n\n \n\n\n\n\n\n*** Formal attire is kindly requested. *** \n\n\n\n\n\n\n\n\nJoin us for a uniquely Floridian take on a traditional Burns Night Supper. Begin the evening with cocktails at 5 p.m.\, followed by a delightful dinner accompanied by classic toasts. \n\n5:00pm – Guests arrive. Cocktail Hour Begins\n\n\n\n6:00pm – Guests are seated.\n\n\n\n6:15pm – Entree orders taken.\n\n\n\n6:30pm – Appetizers served\n\n\n\n6:45pm – Salads served\n\n\n\n7:00pm – Entrees served\n\n\n\n7:30pm – Dessert served. Last call is given.\n\n\n\n8:00pm – Event ends. Guests are invited to enjoy cocktails at one of our Deck Bars.\n\n\n\n\n\n\n\n\n\n\n\n\n\n\n 
URL:https://maxwellclan.org/w/event/robert-burns-dinner/
LOCATION:Bahama Breeze\, 3045 N Rocky Point Dr E\, Tampa\, FL\, 33607\, United States
CATEGORIES:Dinner
ATTACH;FMTTYPE=image/jpeg:https://maxwellclan.org/w/wp-content/uploads/2018/06/RobertBurnsAD.jpg
END:VEVENT
BEGIN:VEVENT
DTSTART;TZID=America/New_York:20241117T170000
DTEND;TZID=America/New_York:20241117T200000
DTSTAMP:20260420T023853
CREATED:20240812T132023Z
LAST-MODIFIED:20240812T155234Z
UID:4764-1731862800-1731873600@maxwellclan.org
SUMMARY:St. Andrew's Day and Thanksgiving Dinner
DESCRIPTION:Bring your families as we gather to celebrate St. Andrew’s Day at our Thanksgiving Dinner. Family-style potluck.
URL:https://maxwellclan.org/w/event/st-andrews-and-thanksgiving-supper/
LOCATION:Scottish American Society of Dunedin\, 917 Louden Ave\, Dunedin\, FL\, 34698\, United States
CATEGORIES:Dinner
ATTACH;FMTTYPE=image/png:https://maxwellclan.org/w/wp-content/uploads/2022/10/IMG_6661.png
END:VEVENT
BEGIN:VEVENT
DTSTART;TZID=America/New_York:20240907T190000
DTEND;TZID=America/New_York:20240907T210000
DTSTAMP:20260420T023853
CREATED:20240812T132023Z
LAST-MODIFIED:20240812T155204Z
UID:4763-1725735600-1725742800@maxwellclan.org
SUMMARY:Bourbon & Wine Tasting
DESCRIPTION:Enjoy Bourbon and Wine flights to accompany fellowship and food.  All Knights and their Ladies.
URL:https://maxwellclan.org/w/event/bourbon-wine-tasting/
LOCATION:Selema Grotto\, 3000 16th St North\, St Petersburg\, Florida\, 33704\, United States
CATEGORIES:Fellowship
ATTACH;FMTTYPE=image/webp:https://maxwellclan.org/w/wp-content/uploads/2024/08/Whiskey_Scotch_Wine.webp
END:VEVENT
BEGIN:VEVENT
DTSTART;TZID=America/New_York:20240615T170000
DTEND;TZID=America/New_York:20240615T200000
DTSTAMP:20260420T023853
CREATED:20240603T215157Z
LAST-MODIFIED:20240603T215159Z
UID:4673-1718470800-1718481600@maxwellclan.org
SUMMARY:New Member Reception
DESCRIPTION:Welcome our newest members to the Maxwell Clan of West Central Florida.
URL:https://maxwellclan.org/w/event/new-member-reception/
LOCATION:Egypt Shriners\, 5017 E Washington St.\, Tampa\, Florida\, 33619\, United States
END:VEVENT
BEGIN:VEVENT
DTSTART;TZID=America/New_York:20240413T110000
DTEND;TZID=America/New_York:20240413T213000
DTSTAMP:20260420T023853
CREATED:20211103T143143Z
LAST-MODIFIED:20240212T220757Z
UID:3743-1713006000-1713043800@maxwellclan.org
SUMMARY:Provincial Grand Lodge Meeting in Florida
DESCRIPTION:$179 Room Rate Deadline: 3/12/24If calling for a room\, specify Royal Order of Scotland group. \n\n\n\n\n\n\n\nPetition Deadline: 4/5/24Banquet Reservation Deadline: 4/8/24 \n\n\n\n\n\n11:00 AM – 12:30 PMCandidate & Member Registration12:45 PMCandidate Orientation in Meeting Room1:15 PMCandidates Assemble in Preparation for DegreesMembers Enter Meeting Room1:30 PMOfficers Piped In for Opening of Provincial Grand Lodge1:45 PM – 4:30 PMConferral of Degrees6:00 PMSocial Hour (Cash Bar) for Members & Guests7:15 PMBanquet Doors Open7:20 PMOfficers & Distinguished Guests Piped In for Banquet7:30 PM – 9:30 PMBanquet
URL:https://maxwellclan.org/w/event/provincial-grand-lodge-meeting-in-florida/
LOCATION:Hilton Tampa Airport Westshore\, 2225 N Lois Avenue\, Tampa\, FL\, 33607\, United States
CATEGORIES:Meetings
ATTACH;FMTTYPE=image/png:https://maxwellclan.org/w/wp-content/uploads/2018/06/maxwell-ribbonROOS.png
ORGANIZER;CN="Provincial Grand Lodge":MAILTO:roos2@verizon.net
END:VEVENT
BEGIN:VEVENT
DTSTART;TZID=America/New_York:20240128T170000
DTEND;TZID=America/New_York:20240128T200000
DTSTAMP:20260420T023853
CREATED:20231021T143244Z
LAST-MODIFIED:20240117T223419Z
UID:4406-1706461200-1706472000@maxwellclan.org
SUMMARY:Rabbie Burns Supper
DESCRIPTION:Our standard bill of fare\, shown below\, has increased- along with everything else in the world this past year!The price for the dinner now stands at $80.00 per plate.  \n\n\n\nSTARTERS- SOUP OR SALAD CHOICES\n\n\n\n\n     Lobster Bisque \n\n\n\n     Caesar Salad \n\n\n\n\nENTRÉE CHOICES \n\n\n\n\n     Grilled Salmon Fresca\n\n\n\n     Chicken Limone with mashed potatoes and broccolini\n\n\n\n     New York Strip with asparagus and mashed potatoes\n\n\n\n\nDESSERT \n\n\n\n\n     Cheesecake\n\n\n\n\nCocktails are extra.
URL:https://maxwellclan.org/w/event/rabbie-burns-supper-3/
LOCATION:BRIO Tuscan Grille\, 2223 North Westshore Boulevard\, Tampa\, FL\, 33607\, United States
CATEGORIES:Dinner,Fellowship
ATTACH;FMTTYPE=image/jpeg:https://maxwellclan.org/w/wp-content/uploads/2018/06/RobertBurnsAD.jpg
END:VEVENT
BEGIN:VEVENT
DTSTART;TZID=America/New_York:20231119T170000
DTEND;TZID=America/New_York:20231119T210000
DTSTAMP:20260420T023853
CREATED:20230723T183159Z
LAST-MODIFIED:20231115T165517Z
UID:4317-1700413200-1700427600@maxwellclan.org
SUMMARY:St. Andrews Dinner (Thanksgiving Dinner)
DESCRIPTION:Currently Registered\n			Shuler – Potatoes\, Cranberry Sauce/RelishStellrecht -Apple Pie\, Rolls\, GravyBishop – Apple Pie\, RollsDrake – Sweet Potatoes (2 ways)\n			Warner – Green BeansSundquist – Brussels sprouts with baconVogt – Pumpkin Pie\, Green Bean CasseroleWendling – Desert\n		\n	\n\n\n\n\n\n\nThis is a FAMILY event\, so bring your family!  Please bring a dish for 16 to share. \n\n\n\n\n5-6pm Setup – All (setting up your side dish\, etc.)\n\n\n\n6-9pm Dinner – All\n\n\n\n8:30-9pm – Cleanup – All
URL:https://maxwellclan.org/w/event/st-andrews-dinner-thanksgiving-dinner-2/
LOCATION:Scottish American Society of Dunedin\, 917 Louden Ave\, Dunedin\, FL\, 34698\, United States
CATEGORIES:Dinner,Fellowship
ATTACH;FMTTYPE=image/png:https://maxwellclan.org/w/wp-content/uploads/2022/10/IMG_6661.png
END:VEVENT
BEGIN:VEVENT
DTSTART;TZID=America/New_York:20230924T170000
DTEND;TZID=America/New_York:20230924T210000
DTSTAMP:20260420T023853
CREATED:20230825T105242Z
LAST-MODIFIED:20230908T213224Z
UID:4347-1695574800-1695589200@maxwellclan.org
SUMMARY:Scotch and Wine Tasting
DESCRIPTION:Bring: snacks that go with scotch and wine\, such as soft or hard cheese\, crackers\, dried or fresh fruit\, nuts\, fresh veggies\, summer sausage\, olives\, artichoke dip\, desserts such a cheescake or apple pie (not cookies)\, chocolate.
URL:https://maxwellclan.org/w/event/scotch-and-wine-tasting/
LOCATION:Selema Grotto\, 3000 16th St North\, St Petersburg\, Florida\, 33704\, United States
CATEGORIES:Fellowship
ATTACH;FMTTYPE=image/jpeg:https://maxwellclan.org/w/wp-content/uploads/2018/06/wine.jpeg
END:VEVENT
BEGIN:VEVENT
DTSTART;TZID=America/New_York:20230416T120000
DTEND;TZID=America/New_York:20230416T150000
DTSTAMP:20260420T023853
CREATED:20221029T142812Z
LAST-MODIFIED:20221029T142931Z
UID:4102-1681646400-1681657200@maxwellclan.org
SUMMARY:Picnic at Philippe Park
DESCRIPTION:Chicken is being provided by the Maxwell Clan. \n\n\n\nPLEASE REGISTER \n\n\n\nREGISTRATION IS REQUIRED for headcount.  Need to know how much chicken to buy.Everyone to bring a side (or more).BYOD\n\n\n\nSeats Approx. 48 people with 6 tables and is located on Upper Tampa Bay. Nearby are a playground\, restrooms\, horseshoe pits\, and a volleyball site. There is an uncovered stone patio on the waterside of the shelter. This shelter does not have electricity (there is a fee). \n\n\n\nMap and Shelter Location \n\n\n\nPicnic Shelter 1 – Philippe Park
URL:https://maxwellclan.org/w/event/picnic-at-philippe-park/
LOCATION:Philippe Park\, 2525 Philippe Parkway\, Safety Harbor\, FL\, 34695-5134\, United States
ATTACH;FMTTYPE=image/png:https://maxwellclan.org/w/wp-content/uploads/2021/05/Screen-Shot-2021-05-23-at-May-2312.22.16-PM.png
END:VEVENT
BEGIN:VEVENT
DTSTART;TZID=America/New_York:20230122T170000
DTEND;TZID=America/New_York:20230122T200000
DTSTAMP:20260420T023853
CREATED:20200104T162555Z
LAST-MODIFIED:20230121T210630Z
UID:3202-1674406800-1674417600@maxwellclan.org
SUMMARY:Rabbie Burns Supper
DESCRIPTION:Our standard bill of fare\, shown below\, has increased- along with everything else in the world this past year!The price for the dinner now stands at $75.00 per plate.  \n\n\n\nSTARTERS- SOUP OR SALAD CHOICES Lobster Bisque OR Caesar Salad  \n\n\n\nENTRÉE CHOICES Grilled Chicken Marsala OR Pasta Primavera OR Center Cut Filet Mignon  \n\n\n\nDESSERT Tiramisu \n\n\n\nCocktails are extra.
URL:https://maxwellclan.org/w/event/rabbie-burns-supper-2/
LOCATION:BRIO Tuscan Grille\, 2223 North Westshore Boulevard\, Tampa\, FL\, 33607\, United States
CATEGORIES:Dinner,Fellowship
ATTACH;FMTTYPE=image/jpeg:https://maxwellclan.org/w/wp-content/uploads/2018/06/RobertBurnsAD.jpg
END:VEVENT
BEGIN:VEVENT
DTSTART;TZID=America/New_York:20221120T180000
DTEND;TZID=America/New_York:20221120T210000
DTSTAMP:20260420T023853
CREATED:20220403T141147Z
LAST-MODIFIED:20221029T140523Z
UID:3913-1668967200-1668978000@maxwellclan.org
SUMMARY:St. Andrews Dinner
DESCRIPTION:Theis is a FAMILY event\, so bring your family!  The Board is providing Roasted Turkey.  Please bring a side dish to share.
URL:https://maxwellclan.org/w/event/st-andrews-dinner-4/
LOCATION:Scottish American Society of Dunedin\, 917 Louden Ave\, Dunedin\, FL\, 34698\, United States
CATEGORIES:Dinner,Fellowship
ATTACH;FMTTYPE=image/jpeg:https://maxwellclan.org/w/wp-content/uploads/2018/06/Tie15-500x500.jpg
END:VEVENT
BEGIN:VEVENT
DTSTART;TZID=America/New_York:20221029T090000
DTEND;TZID=America/New_York:20221029T100000
DTSTAMP:20260420T023853
CREATED:20221017T221849Z
LAST-MODIFIED:20221017T221949Z
UID:4066-1667034000-1667037600@maxwellclan.org
SUMMARY:Board of Directors Meeting
DESCRIPTION:
URL:https://maxwellclan.org/w/event/board-of-directors-meeting-4/
LOCATION:FL
CATEGORIES:Meetings
ATTACH;FMTTYPE=image/jpeg:https://maxwellclan.org/w/wp-content/uploads/2017/11/bod.jpg
END:VEVENT
BEGIN:VEVENT
DTSTART;TZID=America/New_York:20221009T170000
DTEND;TZID=America/New_York:20221009T210000
DTSTAMP:20260420T023853
CREATED:20220403T140825Z
LAST-MODIFIED:20220812T220109Z
UID:3914-1665334800-1665349200@maxwellclan.org
SUMMARY:Dinner Cruise
DESCRIPTION:
URL:https://maxwellclan.org/w/event/dinner-cruise/
LOCATION:StarLite of St. Petersburg\, 3400 Pasadena Avenue South\, South Pasadena\, FL\, 33707\, United States
CATEGORIES:Dinner,Fellowship
ATTACH;FMTTYPE=image/jpeg:https://maxwellclan.org/w/wp-content/uploads/2022/04/starite.jpeg
END:VEVENT
BEGIN:VEVENT
DTSTART;TZID=America/New_York:20220409T120000
DTEND;TZID=America/New_York:20220409T150000
DTSTAMP:20260420T023853
CREATED:20220322T133615Z
LAST-MODIFIED:20220403T132200Z
UID:3890-1649505600-1649516400@maxwellclan.org
SUMMARY:Picnic at Philippe Park
DESCRIPTION:Chicken is being provided by the Maxwell Clan. \n\n\n\nPLEASE REGISTER \n\n\n\nREGISTRATION IS REQUIRED for headcount.  Need to know how much chicken to buy.Everyone to bring a side (or more).BYOD\n\n\n\nSeats Approx. 48 people with 6 tables and is located on Upper Tampa Bay. Nearby are a playground\, restrooms\, horseshoe pits\, and a volleyball site. There is an uncovered stone patio on the waterside of the shelter. This shelter does not have electricity (there is a fee). \n\n\n\nMap and Shelter Location \n\n\n\nPicnic Shelter 1 – Philippe Park
URL:https://maxwellclan.org/w/event/picnic/
LOCATION:Philippe Park\, 2525 Philippe Parkway\, Safety Harbor\, FL\, 34695-5134\, United States
CATEGORIES:Dinner,Fellowship
ATTACH;FMTTYPE=image/png:https://maxwellclan.org/w/wp-content/uploads/2021/05/Screen-Shot-2021-05-23-at-May-2312.22.16-PM.png
END:VEVENT
BEGIN:VEVENT
DTSTART;TZID=America/New_York:20220403T090000
DTEND;TZID=America/New_York:20220403T100000
DTSTAMP:20260420T023853
CREATED:20220216T091332Z
LAST-MODIFIED:20220322T133009Z
UID:3860-1648976400-1648980000@maxwellclan.org
SUMMARY:Board of Directors Meeting
DESCRIPTION:
URL:https://maxwellclan.org/w/event/board-of-directors/
LOCATION:Zoom
CATEGORIES:Meetings
ATTACH;FMTTYPE=image/jpeg:https://maxwellclan.org/w/wp-content/uploads/2017/11/bod.jpg
END:VEVENT
BEGIN:VEVENT
DTSTART;TZID=America/New_York:20211121T170000
DTEND;TZID=America/New_York:20211121T200000
DTSTAMP:20260420T023853
CREATED:20210523T163147Z
LAST-MODIFIED:20220124T201024Z
UID:3545-1637514000-1637524800@maxwellclan.org
SUMMARY:St. Andrews Dinner
DESCRIPTION:You will order off the menu and pay separately.
URL:https://maxwellclan.org/w/event/st-andrews-dinner-3/
LOCATION:The Pub Tampa Bay\, 2223 N. West Shore Blvd\, Tampa\, FL\, 33607\, United States
CATEGORIES:Dinner,Fellowship
ATTACH;FMTTYPE=image/png:https://maxwellclan.org/w/wp-content/uploads/2021/05/IMG_6661.png
END:VEVENT
BEGIN:VEVENT
DTSTART;TZID=America/New_York:20211030T100000
DTEND;TZID=America/New_York:20211030T110000
DTSTAMP:20260420T023853
CREATED:20210814T150700Z
LAST-MODIFIED:20220124T200347Z
UID:3650-1635588000-1635591600@maxwellclan.org
SUMMARY:Board of Directors Meeting
DESCRIPTION:                  Shelter #3
URL:https://maxwellclan.org/w/event/board-of-directors-meeting-3/
LOCATION:Eagle Lake Park\, 1800 Keene Rd.\, Largo\, FL\, 33771\, United States
CATEGORIES:Meetings
ATTACH;FMTTYPE=image/jpeg:https://maxwellclan.org/w/wp-content/uploads/2017/11/bod.jpg
END:VEVENT
BEGIN:VEVENT
DTSTART;TZID=America/New_York:20210919T170000
DTEND;TZID=America/New_York:20210919T210000
DTSTAMP:20260420T023853
CREATED:20210523T162840Z
LAST-MODIFIED:20220124T200236Z
UID:3542-1632070800-1632085200@maxwellclan.org
SUMMARY:Dinner Cruise
DESCRIPTION:Cost includes parking\, cruise\, and meal.  Libations are not included.\n* Order off menu onboard (see menu below)\n* We will be on the top deck\n\nMENU\n\nBLACKENED CHICKEN ALFREDO – a tender boneless breast of chicken prepared blackened style and placed atop a nest of linguine pasta Alfredo\, served with chef’s selection of seasonal vegetable\nLEMON PEPPER RED SNAPPER – a roasted red snapper filet dusted with our own lemon pepper seasoning\, served with chef’s selection of rice and seasonal vegetable\nSTARLITE CHICKEN SPINACH – breaded boneless chicken breast stuffed with a mix of goat and Parmesan cheeses\, artichoke hearts\, and sauteed spinach\, served with chef’s selection of rice and seasonal vegetable\nVEGETARIAN HARVEST – an assortment of lightly seasoned\, roasted garden vegetables combined with linguine and tossed in a garlic-infused olive oil\nBONELESS PORK RIBEYE – tender pork ribeye prepared with our own dry rub seasoning\, roasted in its own juices\, and tastefully accented with a balsamic glaze\, served with garlic red skin mashed potatoes\, and seasonal vegetable\nOVEN ROASTED SALMON- filet of salmon complimented with shallot and lemon beurre blanc sauce\, served with chef’s selection of rice and seasonal vegetable\n\nALL ENTREES INCLUDE OUR HOUSE SALAD OF MIXED GREENS WITH MANDARIN ORANGES\, RAISINS\, ROASTED SUNFLOWER SEEDS\, AND SHREDDED PARMESAN CHEESE FINISHED WITH A RASPBERRY VINAIGRETTE
URL:https://maxwellclan.org/w/event/boat-cruise/
LOCATION:StarLite of St. Petersburg\, 3400 Pasadena Avenue South\, South Pasadena\, FL\, 33707\, United States
CATEGORIES:Dinner
ATTACH;FMTTYPE=image/jpeg:https://maxwellclan.org/w/wp-content/uploads/2018/06/maxresdefault.jpg
END:VEVENT
BEGIN:VEVENT
DTSTART;TZID=America/New_York:20210814T100000
DTEND;TZID=America/New_York:20210814T110000
DTSTAMP:20260420T023853
CREATED:20201212T183707Z
LAST-MODIFIED:20220124T200221Z
UID:3446-1628935200-1628938800@maxwellclan.org
SUMMARY:Board of Directors Meeting
DESCRIPTION:
URL:https://maxwellclan.org/w/event/board-of-directors-meeting-2/
LOCATION:Zoom
CATEGORIES:Meetings
ATTACH;FMTTYPE=image/jpeg:https://maxwellclan.org/w/wp-content/uploads/2017/11/bod.jpg
END:VEVENT
BEGIN:VEVENT
DTSTART;TZID=America/New_York:20210613T150000
DTEND;TZID=America/New_York:20210613T190000
DTSTAMP:20260420T023853
CREATED:20210523T153511Z
LAST-MODIFIED:20220402T085826Z
UID:3532-1623596400-1623610800@maxwellclan.org
SUMMARY:Picnic at the Park
DESCRIPTION:Chicken is being provided by the Maxwell Clan. \n\n\n\nPLEASE REGISTER \n\n\n\nREGISTRATION IS REQUIRED for headcount.  Need to know how much chicken to buy.Everyone to bring a side (or more).BYOD\n\n\n\nPicnic Shelter 1 – Philippe Park\n\n\n\nSeats Approx. 48 people with 6 tables and is located on Upper Tampa Bay. Nearby are a playground\, restrooms\, horseshoe pits\, and a volleyball site. There is an uncovered stone patio on the waterside of the shelter. This shelter does not have electricity (there is a fee). \n\n\n\nMap and Shelter Location
URL:https://maxwellclan.org/w/event/picnic-at-the-park/
LOCATION:Philippe Park\, 2525 Philippe Parkway\, Safety Harbor\, FL\, 34695-5134\, United States
CATEGORIES:Fellowship
ATTACH;FMTTYPE=image/png:https://maxwellclan.org/w/wp-content/uploads/2021/05/Screen-Shot-2021-05-23-at-May-2312.22.16-PM.png
END:VEVENT
BEGIN:VEVENT
DTSTART;TZID=America/New_York:20201212T130000
DTEND;TZID=America/New_York:20201212T140000
DTSTAMP:20260420T023853
CREATED:20201031T154000Z
LAST-MODIFIED:20220124T200113Z
UID:3402-1607778000-1607781600@maxwellclan.org
SUMMARY:Board Meeting
DESCRIPTION:
URL:https://maxwellclan.org/w/event/board-meeting-2/
LOCATION:Zoom
CATEGORIES:Meetings
ATTACH;FMTTYPE=image/jpeg:https://maxwellclan.org/w/wp-content/uploads/2017/11/bod.jpg
END:VEVENT
BEGIN:VEVENT
DTSTART;TZID=America/New_York:20201031T110000
DTEND;TZID=America/New_York:20201031T120000
DTSTAMP:20260420T023853
CREATED:20201025T005140Z
LAST-MODIFIED:20220124T200036Z
UID:3395-1604142000-1604145600@maxwellclan.org
SUMMARY:Board Meeting
DESCRIPTION:Zoom meeting
URL:https://maxwellclan.org/w/event/board-meeting/
LOCATION:FL
CATEGORIES:Meetings
ATTACH;FMTTYPE=image/jpeg:https://maxwellclan.org/w/wp-content/uploads/2017/11/bod.jpg
END:VEVENT
BEGIN:VEVENT
DTSTART;TZID=America/New_York:20200920T173000
DTEND;TZID=America/New_York:20200920T210000
DTSTAMP:20260420T023853
CREATED:20200104T161914Z
LAST-MODIFIED:20220124T200018Z
UID:3200-1600623000-1600635600@maxwellclan.org
SUMMARY:Maxwell Clan Family Dinner Cruise
DESCRIPTION:*  Includes meal service and non-alcoholic beverages\, tax\, and tip.  Cash bar available for alcoholic beverages. \nBoarding at 5:30 pm; Departing at 6:00 pm\nDeparts: 3400 Pasadena Ave. South – St. Pete Beach Area\nParking: They have their own lot on the Corey Causeway. There is no parking charge.
URL:https://maxwellclan.org/w/event/maxwell-clan-family-dinner-cruise/
LOCATION:StarLite of St. Petersburg\, 3400 Pasadena Avenue South\, South Pasadena\, FL\, 33707\, United States
CATEGORIES:Dinner
ATTACH;FMTTYPE=image/jpeg:https://maxwellclan.org/w/wp-content/uploads/2018/06/maxresdefault.jpg
END:VEVENT
END:VCALENDAR