BEGIN:VCALENDAR
VERSION:2.0
PRODID:-//Maxwell Clan of West Central Florida - ECPv6.15.20//NONSGML v1.0//EN
CALSCALE:GREGORIAN
METHOD:PUBLISH
X-WR-CALNAME:Maxwell Clan of West Central Florida
X-ORIGINAL-URL:https://maxwellclan.org/w
X-WR-CALDESC:Events for Maxwell Clan of West Central Florida
REFRESH-INTERVAL;VALUE=DURATION:PT1H
X-Robots-Tag:noindex
X-PUBLISHED-TTL:PT1H
BEGIN:VTIMEZONE
TZID:America/New_York
BEGIN:DAYLIGHT
TZOFFSETFROM:-0500
TZOFFSETTO:-0400
TZNAME:EDT
DTSTART:20180311T070000
END:DAYLIGHT
BEGIN:STANDARD
TZOFFSETFROM:-0400
TZOFFSETTO:-0500
TZNAME:EST
DTSTART:20181104T060000
END:STANDARD
BEGIN:DAYLIGHT
TZOFFSETFROM:-0500
TZOFFSETTO:-0400
TZNAME:EDT
DTSTART:20190310T070000
END:DAYLIGHT
BEGIN:STANDARD
TZOFFSETFROM:-0400
TZOFFSETTO:-0500
TZNAME:EST
DTSTART:20191103T060000
END:STANDARD
BEGIN:DAYLIGHT
TZOFFSETFROM:-0500
TZOFFSETTO:-0400
TZNAME:EDT
DTSTART:20200308T070000
END:DAYLIGHT
BEGIN:STANDARD
TZOFFSETFROM:-0400
TZOFFSETTO:-0500
TZNAME:EST
DTSTART:20201101T060000
END:STANDARD
BEGIN:DAYLIGHT
TZOFFSETFROM:-0500
TZOFFSETTO:-0400
TZNAME:EDT
DTSTART:20210314T070000
END:DAYLIGHT
BEGIN:STANDARD
TZOFFSETFROM:-0400
TZOFFSETTO:-0500
TZNAME:EST
DTSTART:20211107T060000
END:STANDARD
END:VTIMEZONE
BEGIN:VTIMEZONE
TZID:America/New_York
BEGIN:DAYLIGHT
TZOFFSETFROM:-0500
TZOFFSETTO:-0400
TZNAME:EDT
DTSTART:20170312T070000
END:DAYLIGHT
BEGIN:STANDARD
TZOFFSETFROM:-0400
TZOFFSETTO:-0500
TZNAME:EST
DTSTART:20171105T060000
END:STANDARD
BEGIN:DAYLIGHT
TZOFFSETFROM:-0500
TZOFFSETTO:-0400
TZNAME:EDT
DTSTART:20180311T070000
END:DAYLIGHT
BEGIN:STANDARD
TZOFFSETFROM:-0400
TZOFFSETTO:-0500
TZNAME:EST
DTSTART:20181104T060000
END:STANDARD
BEGIN:DAYLIGHT
TZOFFSETFROM:-0500
TZOFFSETTO:-0400
TZNAME:EDT
DTSTART:20190310T070000
END:DAYLIGHT
BEGIN:STANDARD
TZOFFSETFROM:-0400
TZOFFSETTO:-0500
TZNAME:EST
DTSTART:20191103T060000
END:STANDARD
BEGIN:DAYLIGHT
TZOFFSETFROM:-0500
TZOFFSETTO:-0400
TZNAME:EDT
DTSTART:20200308T070000
END:DAYLIGHT
BEGIN:STANDARD
TZOFFSETFROM:-0400
TZOFFSETTO:-0500
TZNAME:EST
DTSTART:20201101T060000
END:STANDARD
END:VTIMEZONE
BEGIN:VEVENT
DTSTART;TZID=America/New_York:20200119T170000
DTEND;TZID=America/New_York:20200119T210000
DTSTAMP:20260422T061746
CREATED:20190405T090302Z
LAST-MODIFIED:20220124T195836Z
UID:2930-1579453200-1579467600@maxwellclan.org
SUMMARY:Rabbie Burns Supper
DESCRIPTION:
URL:https://maxwellclan.org/w/event/rabbie-burns-supper/
LOCATION:BRIO Tuscan Grille\, 2223 North Westshore Boulevard\, Tampa\, FL\, 33607\, United States
CATEGORIES:Dinner,Fellowship
ATTACH;FMTTYPE=image/jpeg:https://maxwellclan.org/w/wp-content/uploads/2018/06/RobertBurnsAD.jpg
END:VEVENT
BEGIN:VEVENT
DTSTART;TZID=America/New_York:20191117T170000
DTEND;TZID=America/New_York:20191117T210000
DTSTAMP:20260422T061746
CREATED:20190405T090202Z
LAST-MODIFIED:20220124T195817Z
UID:2928-1574010000-1574024400@maxwellclan.org
SUMMARY:St. Andrews Dinner
DESCRIPTION:BRIO Tuscan Grille\n2223 North Westshore Boulevard\nTampa\, FL 33607
URL:https://maxwellclan.org/w/event/st-andrews-dinner/
LOCATION:BRIO Tuscan Grille\, 2223 North Westshore Boulevard\, Tampa\, FL\, 33607\, United States
CATEGORIES:Dinner,Fellowship
ATTACH;FMTTYPE=image/jpeg:https://maxwellclan.org/w/wp-content/uploads/2018/06/banner_parties.jpg
END:VEVENT
BEGIN:VEVENT
DTSTART;TZID=America/New_York:20191012T100000
DTEND;TZID=America/New_York:20191012T100000
DTSTAMP:20260422T061746
CREATED:20190810T143710Z
LAST-MODIFIED:20220124T195734Z
UID:3054-1570874400-1570874400@maxwellclan.org
SUMMARY:Board of Directors Meeting
DESCRIPTION:
URL:https://maxwellclan.org/w/event/board-of-directors-meeting/
LOCATION:Conference Call
CATEGORIES:Meetings
ATTACH;FMTTYPE=image/jpeg:https://maxwellclan.org/w/wp-content/uploads/2017/11/bod.jpg
END:VEVENT
BEGIN:VEVENT
DTSTART;TZID=America/New_York:20190922T173000
DTEND;TZID=America/New_York:20190922T220000
DTSTAMP:20260422T061746
CREATED:20190405T090052Z
LAST-MODIFIED:20220124T195716Z
UID:2926-1569173400-1569189600@maxwellclan.org
SUMMARY:Family Night Dinner Cruise
DESCRIPTION:*  Includes meal service and non-alcoholic beverages\, tax\, and tip.  Cash bar available for alcoholic beverages. \nBoarding at 5:30 pm; Departing at 6:00 pm\nDeparts: 3400 Pasadena Ave. South – St. Pete Beach Area\nParking: They have their own lot on the Corey Causeway. There is no parking charge.
URL:https://maxwellclan.org/w/event/family-night-dinner-cruise/
LOCATION:StarLite of St. Petersburg\, 3400 Pasadena Avenue South\, South Pasadena\, FL\, 33707\, United States
CATEGORIES:Dinner,Fellowship
ATTACH;FMTTYPE=image/jpeg:https://maxwellclan.org/w/wp-content/uploads/2018/06/maxresdefault.jpg
END:VEVENT
BEGIN:VEVENT
DTSTART;TZID=America/New_York:20190714T180000
DTEND;TZID=America/New_York:20190714T213000
DTSTAMP:20260422T061746
CREATED:20190405T085938Z
LAST-MODIFIED:20220124T195610Z
UID:2923-1563127200-1563139800@maxwellclan.org
SUMMARY:Informal Gathering
DESCRIPTION:
URL:https://maxwellclan.org/w/event/informal-gathering/
LOCATION:The Pub Tampa Bay\, 2223 N. West Shore Blvd\, Tampa\, FL\, 33607\, United States
CATEGORIES:Dinner,Fellowship
ATTACH;FMTTYPE=image/jpeg:https://maxwellclan.org/w/wp-content/uploads/2018/06/Maxwell-Clan-August-Dinner-2.jpg
END:VEVENT
BEGIN:VEVENT
DTSTART;TZID=America/New_York:20190120T170000
DTEND;TZID=America/New_York:20190120T200000
DTSTAMP:20260422T061746
CREATED:20171114T182307Z
LAST-MODIFIED:20190118T141826Z
UID:647-1548003600-1548014400@maxwellclan.org
SUMMARY:Robert “Rabbie” Burns Supper 2019
DESCRIPTION:
URL:https://maxwellclan.org/w/event/bobbyburns/
LOCATION:BRIO Tuscan Grille\, 2223 North Westshore Boulevard\, Tampa\, FL\, 33607\, United States
CATEGORIES:Dinner
ATTACH;FMTTYPE=image/jpeg:https://maxwellclan.org/w/wp-content/uploads/2018/06/RobertBurnsAD.jpg
END:VEVENT
BEGIN:VEVENT
DTSTART;TZID=America/New_York:20181118T160000
DTEND;TZID=America/New_York:20181118T200000
DTSTAMP:20260422T061746
CREATED:20171114T182113Z
LAST-MODIFIED:20220124T195548Z
UID:645-1542556800-1542571200@maxwellclan.org
SUMMARY:St. Andrews Day Dinner & Annual Meeting
DESCRIPTION:
URL:https://maxwellclan.org/w/event/st-andrews-day-dinner-annual-meeting/
LOCATION:BRIO Tuscan Grille\, 2223 North Westshore Boulevard\, Tampa\, FL\, 33607\, United States
CATEGORIES:Dinner,Meetings
ATTACH;FMTTYPE=image/jpeg:https://maxwellclan.org/w/wp-content/uploads/2018/06/banner_parties.jpg
END:VEVENT
BEGIN:VEVENT
DTSTART;VALUE=DATE:20181020
DTEND;VALUE=DATE:20181021
DTSTAMP:20260422T061746
CREATED:20171114T182020Z
LAST-MODIFIED:20180610T153620Z
UID:643-1539993600-1540079999@maxwellclan.org
SUMMARY:Board of Directors Meeting
DESCRIPTION:
URL:https://maxwellclan.org/w/event/board-of-directors-meeting-7/
LOCATION:Tampa Scottish Rite Masonic Center\, 5500 Memorial Highway\,\, Tampa\, FL\, 3634-7336\, United States
CATEGORIES:Meetings
ATTACH;FMTTYPE=image/jpeg:https://maxwellclan.org/w/wp-content/uploads/2017/11/bod.jpg
END:VEVENT
BEGIN:VEVENT
DTSTART;TZID=America/New_York:20180714T100000
DTEND;TZID=America/New_York:20180714T110000
DTSTAMP:20260422T061746
CREATED:20171114T181512Z
LAST-MODIFIED:20180610T153643Z
UID:639-1531562400-1531566000@maxwellclan.org
SUMMARY:Board of Directors Meeting
DESCRIPTION:
URL:https://maxwellclan.org/w/event/board-of-directors-meeting-6/
LOCATION:Conference Call
CATEGORIES:Meetings
ATTACH;FMTTYPE=image/jpeg:https://maxwellclan.org/w/wp-content/uploads/2017/11/bod.jpg
END:VEVENT
END:VCALENDAR